BEGIN:VCALENDAR
VERSION:2.0
PRODID:-//Laubinger Event GmbH - ECPv6.15.20//NONSGML v1.0//EN
CALSCALE:GREGORIAN
METHOD:PUBLISH
X-WR-CALNAME:Laubinger Event GmbH
X-ORIGINAL-URL:https://www.laubinger.de
X-WR-CALDESC:Veranstaltungen für Laubinger Event GmbH
REFRESH-INTERVAL;VALUE=DURATION:PT1H
X-Robots-Tag:noindex
X-PUBLISHED-TTL:PT1H
BEGIN:VTIMEZONE
TZID:Europe/Berlin
BEGIN:DAYLIGHT
TZOFFSETFROM:+0100
TZOFFSETTO:+0200
TZNAME:CEST
DTSTART:20250330T010000
END:DAYLIGHT
BEGIN:STANDARD
TZOFFSETFROM:+0200
TZOFFSETTO:+0100
TZNAME:CET
DTSTART:20251026T010000
END:STANDARD
BEGIN:DAYLIGHT
TZOFFSETFROM:+0100
TZOFFSETTO:+0200
TZNAME:CEST
DTSTART:20260329T010000
END:DAYLIGHT
BEGIN:STANDARD
TZOFFSETFROM:+0200
TZOFFSETTO:+0100
TZNAME:CET
DTSTART:20261025T010000
END:STANDARD
BEGIN:DAYLIGHT
TZOFFSETFROM:+0100
TZOFFSETTO:+0200
TZNAME:CEST
DTSTART:20270328T010000
END:DAYLIGHT
BEGIN:STANDARD
TZOFFSETFROM:+0200
TZOFFSETTO:+0100
TZNAME:CET
DTSTART:20271031T010000
END:STANDARD
END:VTIMEZONE
BEGIN:VEVENT
DTSTART;VALUE=DATE:20260417
DTEND;VALUE=DATE:20260420
DTSTAMP:20260421T172934
CREATED:20240327T154507Z
LAST-MODIFIED:20260329T092000Z
UID:10000016-1776384000-1776643199@www.laubinger.de
SUMMARY:20. Köpenicker "Winzerfrühling"
DESCRIPTION:  \nKöpenicker „Winzerfrühling“\n\nSchlossinsel und Luisenhain\n17.04. – 19.04.2026\n\nhttps://www.laubinger.de/wp-content/uploads/2024/03/Laubinger-Event-GmbH-Imagespot-2-Koepenicker-Winzerfruehling.mp3\nGemeinsam mit der Altstadt Köpenick e.V präsentieren wir Ihnen wieder den traditionellen Winzerfrühling. \nAbwechslungsreiche musikalische Programme auf zwei Bühnen\, eine ausgewählte Händlermeile und vieles mehr…. \nMehr Informationen zur Veranstaltung finden Sie hier \n  \nBühnenprogramm Schlossinsel WF 2026 \nBühnenprogramm Luisenhain WF 2026 \n  \n\n  \n 
URL:https://www.laubinger.de/event/18-koepenicker-winzerfruehlingplant/
LOCATION:Winzerfeste\, Schlossinsel\, Berlin Köpenick\, 12557\, Deutschland
CATEGORIES:öffentliche Veranstaltung
ATTACH;FMTTYPE=image/jpeg:https://www.laubinger.de/wp-content/uploads/2020/09/IMG_8105-scaled.jpg
GEO:52° 26′ 34″ N;13° 34′ 22″ O
X-APPLE-STRUCTURED-LOCATION;VALUE=URI;X-ADDRESS=Winzerfeste Schlossinsel Berlin Köpenick 12557 Deutschland;X-APPLE-RADIUS=500;X-TITLE=Schlossinsel:geo:13° 34′ 22″ O,52° 26′ 34″ N
END:VEVENT
BEGIN:VEVENT
DTSTART;VALUE=DATE:20260821
DTEND;VALUE=DATE:20260824
DTSTAMP:20260421T172934
CREATED:20190725T130404Z
LAST-MODIFIED:20260117T142736Z
UID:10000001-1787270400-1787529599@www.laubinger.de
SUMMARY:12. Köpenicker Winzersommer - in Planung
DESCRIPTION:  \n  \n12. Köpenicker Winzersommer\n  \nWann: 21.08. – 23.08.2026 \nWo: Köpenick – Schlossinsel und Luisenhain \n\nÖffnungszeiten:\nFreitag\, 21.08.2026                    16.00 – 23.00 Uhr \nSamstag\, 22.08.2026                 12.00 – 23.00 Uhr \nSonntag\, 23.08.2026                  11.00 – 20.00 Uhr \n  \nhttps://www.winzerfest-koepenick.de \n\nBühnenprogramm – Lusienhain \nBühnenprogramm – Schloßinsel
URL:https://www.laubinger.de/event/koepenickerwinzersommer/
LOCATION:Winzerfeste\, Schlossinsel\, Berlin Köpenick\, 12557\, Deutschland
CATEGORIES:öffentliche Veranstaltung
ATTACH;FMTTYPE=image/jpeg:https://www.laubinger.de/wp-content/uploads/2023/01/IMG_0624.jpeg
GEO:52° 26′ 34″ N;13° 34′ 22″ O
X-APPLE-STRUCTURED-LOCATION;VALUE=URI;X-ADDRESS=Winzerfeste Schlossinsel Berlin Köpenick 12557 Deutschland;X-APPLE-RADIUS=500;X-TITLE=Schlossinsel:geo:13° 34′ 22″ O,52° 26′ 34″ N
END:VEVENT
END:VCALENDAR